BEGIN:VCALENDAR
VERSION:2.0
PRODID:-//Local 35 - ECPv6.15.18//NONSGML v1.0//EN
CALSCALE:GREGORIAN
METHOD:PUBLISH
X-ORIGINAL-URL:https://iueclocal35.org
X-WR-CALDESC:Events for Local 35
REFRESH-INTERVAL;VALUE=DURATION:PT1H
X-Robots-Tag:noindex
X-PUBLISHED-TTL:PT1H
BEGIN:VTIMEZONE
TZID:UTC
BEGIN:STANDARD
TZOFFSETFROM:+0000
TZOFFSETTO:+0000
TZNAME:UTC
DTSTART:20250101T000000
END:STANDARD
END:VTIMEZONE
BEGIN:VEVENT
DTSTART;TZID=UTC:20260610T163000
DTEND;TZID=UTC:20260610T173000
DTSTAMP:20260421T012745
CREATED:20240730T162723Z
LAST-MODIFIED:20251011T200741Z
UID:4357-1781109000-1781112600@iueclocal35.org
SUMMARY:Union Meeting
DESCRIPTION:
URL:https://iueclocal35.org/event/union-meeting-2/2026-06-10/
LOCATION:Labor Temple\, 890 Third Street\, Albany\, NY\, 12006\, United States
CATEGORIES:default
GEO:42.6788378;-73.7857575
X-APPLE-STRUCTURED-LOCATION;VALUE=URI;X-ADDRESS=Labor Temple 890 Third Street Albany NY 12006 United States;X-APPLE-RADIUS=500;X-TITLE=890 Third Street:geo:-73.7857575,42.6788378
END:VEVENT
BEGIN:VEVENT
DTSTART;TZID=UTC:20260611T180000
DTEND;TZID=UTC:20260611T200000
DTSTAMP:20260421T012745
CREATED:20251007T214920Z
LAST-MODIFIED:20251011T200338Z
UID:4280-1781200800-1781208000@iueclocal35.org
SUMMARY:Utica Meeting
DESCRIPTION:
URL:https://iueclocal35.org/event/utica-meeting/2026-06-11/
LOCATION:Fire Department\, 9531 Pinnacle Rd.\, Sauquoit\, NY\, 13456\, United States
CATEGORIES:default
GEO:43.005236;-75.259179
X-APPLE-STRUCTURED-LOCATION;VALUE=URI;X-ADDRESS=Fire Department 9531 Pinnacle Rd. Sauquoit NY 13456 United States;X-APPLE-RADIUS=500;X-TITLE=9531 Pinnacle Rd.:geo:-75.259179,43.005236
END:VEVENT
BEGIN:VEVENT
DTSTART;VALUE=DATE:20260615
DTEND;VALUE=DATE:20260620
DTSTAMP:20260421T012745
CREATED:20251113T182352Z
LAST-MODIFIED:20251113T182352Z
UID:4824-1781506800-1781852399@iueclocal35.org
SUMMARY:CECA 2026
DESCRIPTION:
URL:https://iueclocal35.org/event/ceca-2026/
END:VEVENT
BEGIN:VEVENT
DTSTART;TZID=UTC:20260624T163000
DTEND;TZID=UTC:20260624T173000
DTSTAMP:20260421T012745
CREATED:20240613T121504Z
LAST-MODIFIED:20251011T200426Z
UID:4329-1782318600-1782322200@iueclocal35.org
SUMMARY:Executive Board Meeting
DESCRIPTION:
URL:https://iueclocal35.org/event/executive-board-meeting-2-2/2026-06-24/
LOCATION:Labor Temple\, 890 Third Street\, Albany\, NY\, 12006\, United States
CATEGORIES:default
GEO:42.6788378;-73.7857575
X-APPLE-STRUCTURED-LOCATION;VALUE=URI;X-ADDRESS=Labor Temple 890 Third Street Albany NY 12006 United States;X-APPLE-RADIUS=500;X-TITLE=890 Third Street:geo:-73.7857575,42.6788378
END:VEVENT
BEGIN:VEVENT
DTSTART;TZID=UTC:20260708T163000
DTEND;TZID=UTC:20260708T173000
DTSTAMP:20260421T012745
CREATED:20240730T162723Z
LAST-MODIFIED:20251011T200742Z
UID:4358-1783528200-1783531800@iueclocal35.org
SUMMARY:Union Meeting
DESCRIPTION:
URL:https://iueclocal35.org/event/union-meeting-2/2026-07-08/
LOCATION:Labor Temple\, 890 Third Street\, Albany\, NY\, 12006\, United States
CATEGORIES:default
GEO:42.6788378;-73.7857575
X-APPLE-STRUCTURED-LOCATION;VALUE=URI;X-ADDRESS=Labor Temple 890 Third Street Albany NY 12006 United States;X-APPLE-RADIUS=500;X-TITLE=890 Third Street:geo:-73.7857575,42.6788378
END:VEVENT
BEGIN:VEVENT
DTSTART;TZID=UTC:20260709T180000
DTEND;TZID=UTC:20260709T200000
DTSTAMP:20260421T012745
CREATED:20251007T214920Z
LAST-MODIFIED:20251011T200339Z
UID:4281-1783620000-1783627200@iueclocal35.org
SUMMARY:Utica Meeting
DESCRIPTION:
URL:https://iueclocal35.org/event/utica-meeting/2026-07-09/
LOCATION:Fire Department\, 9531 Pinnacle Rd.\, Sauquoit\, NY\, 13456\, United States
CATEGORIES:default
GEO:43.005236;-75.259179
X-APPLE-STRUCTURED-LOCATION;VALUE=URI;X-ADDRESS=Fire Department 9531 Pinnacle Rd. Sauquoit NY 13456 United States;X-APPLE-RADIUS=500;X-TITLE=9531 Pinnacle Rd.:geo:-75.259179,43.005236
END:VEVENT
BEGIN:VEVENT
DTSTART;TZID=UTC:20260722T163000
DTEND;TZID=UTC:20260722T173000
DTSTAMP:20260421T012745
CREATED:20240613T121504Z
LAST-MODIFIED:20251011T200427Z
UID:4330-1784737800-1784741400@iueclocal35.org
SUMMARY:Executive Board Meeting
DESCRIPTION:
URL:https://iueclocal35.org/event/executive-board-meeting-2-2/2026-07-22/
LOCATION:Labor Temple\, 890 Third Street\, Albany\, NY\, 12006\, United States
CATEGORIES:default
GEO:42.6788378;-73.7857575
X-APPLE-STRUCTURED-LOCATION;VALUE=URI;X-ADDRESS=Labor Temple 890 Third Street Albany NY 12006 United States;X-APPLE-RADIUS=500;X-TITLE=890 Third Street:geo:-73.7857575,42.6788378
END:VEVENT
BEGIN:VEVENT
DTSTART;TZID=UTC:20260812T163000
DTEND;TZID=UTC:20260812T173000
DTSTAMP:20260421T012745
CREATED:20240730T162723Z
LAST-MODIFIED:20251011T200743Z
UID:4359-1786552200-1786555800@iueclocal35.org
SUMMARY:Union Meeting
DESCRIPTION:
URL:https://iueclocal35.org/event/union-meeting-2/2026-08-12/
LOCATION:Labor Temple\, 890 Third Street\, Albany\, NY\, 12006\, United States
CATEGORIES:default
GEO:42.6788378;-73.7857575
X-APPLE-STRUCTURED-LOCATION;VALUE=URI;X-ADDRESS=Labor Temple 890 Third Street Albany NY 12006 United States;X-APPLE-RADIUS=500;X-TITLE=890 Third Street:geo:-73.7857575,42.6788378
END:VEVENT
BEGIN:VEVENT
DTSTART;TZID=UTC:20260813T180000
DTEND;TZID=UTC:20260813T200000
DTSTAMP:20260421T012745
CREATED:20251007T214920Z
LAST-MODIFIED:20251011T200340Z
UID:4282-1786644000-1786651200@iueclocal35.org
SUMMARY:Utica Meeting
DESCRIPTION:
URL:https://iueclocal35.org/event/utica-meeting/2026-08-13/
LOCATION:Fire Department\, 9531 Pinnacle Rd.\, Sauquoit\, NY\, 13456\, United States
CATEGORIES:default
GEO:43.005236;-75.259179
X-APPLE-STRUCTURED-LOCATION;VALUE=URI;X-ADDRESS=Fire Department 9531 Pinnacle Rd. Sauquoit NY 13456 United States;X-APPLE-RADIUS=500;X-TITLE=9531 Pinnacle Rd.:geo:-75.259179,43.005236
END:VEVENT
BEGIN:VEVENT
DTSTART;TZID=UTC:20260826T163000
DTEND;TZID=UTC:20260826T173000
DTSTAMP:20260421T012745
CREATED:20240613T121504Z
LAST-MODIFIED:20251011T200428Z
UID:4331-1787761800-1787765400@iueclocal35.org
SUMMARY:Executive Board Meeting
DESCRIPTION:
URL:https://iueclocal35.org/event/executive-board-meeting-2-2/2026-08-26/
LOCATION:Labor Temple\, 890 Third Street\, Albany\, NY\, 12006\, United States
CATEGORIES:default
GEO:42.6788378;-73.7857575
X-APPLE-STRUCTURED-LOCATION;VALUE=URI;X-ADDRESS=Labor Temple 890 Third Street Albany NY 12006 United States;X-APPLE-RADIUS=500;X-TITLE=890 Third Street:geo:-73.7857575,42.6788378
END:VEVENT
BEGIN:VEVENT
DTSTART;TZID=UTC:20260909T163000
DTEND;TZID=UTC:20260909T173000
DTSTAMP:20260421T012745
CREATED:20240730T162723Z
LAST-MODIFIED:20251011T200747Z
UID:4360-1788971400-1788975000@iueclocal35.org
SUMMARY:Union Meeting
DESCRIPTION:
URL:https://iueclocal35.org/event/union-meeting-2/2026-09-09/
LOCATION:Labor Temple\, 890 Third Street\, Albany\, NY\, 12006\, United States
CATEGORIES:default
GEO:42.6788378;-73.7857575
X-APPLE-STRUCTURED-LOCATION;VALUE=URI;X-ADDRESS=Labor Temple 890 Third Street Albany NY 12006 United States;X-APPLE-RADIUS=500;X-TITLE=890 Third Street:geo:-73.7857575,42.6788378
END:VEVENT
BEGIN:VEVENT
DTSTART;TZID=UTC:20260910T180000
DTEND;TZID=UTC:20260910T200000
DTSTAMP:20260421T012745
CREATED:20251007T214920Z
LAST-MODIFIED:20251011T200344Z
UID:4284-1789063200-1789070400@iueclocal35.org
SUMMARY:Utica Meeting
DESCRIPTION:
URL:https://iueclocal35.org/event/utica-meeting/2026-09-10/
LOCATION:Fire Department\, 9531 Pinnacle Rd.\, Sauquoit\, NY\, 13456\, United States
CATEGORIES:default
GEO:43.005236;-75.259179
X-APPLE-STRUCTURED-LOCATION;VALUE=URI;X-ADDRESS=Fire Department 9531 Pinnacle Rd. Sauquoit NY 13456 United States;X-APPLE-RADIUS=500;X-TITLE=9531 Pinnacle Rd.:geo:-75.259179,43.005236
END:VEVENT
BEGIN:VEVENT
DTSTART;TZID=UTC:20260923T163000
DTEND;TZID=UTC:20260923T173000
DTSTAMP:20260421T012745
CREATED:20240613T121504Z
LAST-MODIFIED:20251011T200433Z
UID:4332-1790181000-1790184600@iueclocal35.org
SUMMARY:Executive Board Meeting
DESCRIPTION:
URL:https://iueclocal35.org/event/executive-board-meeting-2-2/2026-09-23/
LOCATION:Labor Temple\, 890 Third Street\, Albany\, NY\, 12006\, United States
CATEGORIES:default
GEO:42.6788378;-73.7857575
X-APPLE-STRUCTURED-LOCATION;VALUE=URI;X-ADDRESS=Labor Temple 890 Third Street Albany NY 12006 United States;X-APPLE-RADIUS=500;X-TITLE=890 Third Street:geo:-73.7857575,42.6788378
END:VEVENT
BEGIN:VEVENT
DTSTART;TZID=UTC:20261008T180000
DTEND;TZID=UTC:20261008T200000
DTSTAMP:20260421T012745
CREATED:20251007T214920Z
LAST-MODIFIED:20251011T200345Z
UID:4285-1791482400-1791489600@iueclocal35.org
SUMMARY:Utica Meeting
DESCRIPTION:
URL:https://iueclocal35.org/event/utica-meeting/2026-10-08/
LOCATION:Fire Department\, 9531 Pinnacle Rd.\, Sauquoit\, NY\, 13456\, United States
CATEGORIES:default
GEO:43.005236;-75.259179
X-APPLE-STRUCTURED-LOCATION;VALUE=URI;X-ADDRESS=Fire Department 9531 Pinnacle Rd. Sauquoit NY 13456 United States;X-APPLE-RADIUS=500;X-TITLE=9531 Pinnacle Rd.:geo:-75.259179,43.005236
END:VEVENT
BEGIN:VEVENT
DTSTART;TZID=UTC:20261014T163000
DTEND;TZID=UTC:20261014T173000
DTSTAMP:20260421T012745
CREATED:20240730T162723Z
LAST-MODIFIED:20251011T200748Z
UID:4361-1791995400-1791999000@iueclocal35.org
SUMMARY:Union Meeting
DESCRIPTION:
URL:https://iueclocal35.org/event/union-meeting-2/2026-10-14/
LOCATION:Labor Temple\, 890 Third Street\, Albany\, NY\, 12006\, United States
CATEGORIES:default
GEO:42.6788378;-73.7857575
X-APPLE-STRUCTURED-LOCATION;VALUE=URI;X-ADDRESS=Labor Temple 890 Third Street Albany NY 12006 United States;X-APPLE-RADIUS=500;X-TITLE=890 Third Street:geo:-73.7857575,42.6788378
END:VEVENT
BEGIN:VEVENT
DTSTART;TZID=UTC:20261028T163000
DTEND;TZID=UTC:20261028T173000
DTSTAMP:20260421T012745
CREATED:20240613T121504Z
LAST-MODIFIED:20251011T200434Z
UID:4333-1793205000-1793208600@iueclocal35.org
SUMMARY:Executive Board Meeting
DESCRIPTION:
URL:https://iueclocal35.org/event/executive-board-meeting-2-2/2026-10-28/
LOCATION:Labor Temple\, 890 Third Street\, Albany\, NY\, 12006\, United States
CATEGORIES:default
GEO:42.6788378;-73.7857575
X-APPLE-STRUCTURED-LOCATION;VALUE=URI;X-ADDRESS=Labor Temple 890 Third Street Albany NY 12006 United States;X-APPLE-RADIUS=500;X-TITLE=890 Third Street:geo:-73.7857575,42.6788378
END:VEVENT
BEGIN:VEVENT
DTSTART;TZID=UTC:20261111T163000
DTEND;TZID=UTC:20261111T173000
DTSTAMP:20260421T012745
CREATED:20240730T162723Z
LAST-MODIFIED:20251011T200749Z
UID:4362-1794414600-1794418200@iueclocal35.org
SUMMARY:Union Meeting
DESCRIPTION:
URL:https://iueclocal35.org/event/union-meeting-2/2026-11-11/
LOCATION:Labor Temple\, 890 Third Street\, Albany\, NY\, 12006\, United States
CATEGORIES:default
GEO:42.6788378;-73.7857575
X-APPLE-STRUCTURED-LOCATION;VALUE=URI;X-ADDRESS=Labor Temple 890 Third Street Albany NY 12006 United States;X-APPLE-RADIUS=500;X-TITLE=890 Third Street:geo:-73.7857575,42.6788378
END:VEVENT
BEGIN:VEVENT
DTSTART;TZID=UTC:20261112T180000
DTEND;TZID=UTC:20261112T200000
DTSTAMP:20260421T012745
CREATED:20251007T214920Z
LAST-MODIFIED:20251011T200346Z
UID:4287-1794506400-1794513600@iueclocal35.org
SUMMARY:Utica Meeting
DESCRIPTION:
URL:https://iueclocal35.org/event/utica-meeting/2026-11-12/
LOCATION:Fire Department\, 9531 Pinnacle Rd.\, Sauquoit\, NY\, 13456\, United States
CATEGORIES:default
GEO:43.005236;-75.259179
X-APPLE-STRUCTURED-LOCATION;VALUE=URI;X-ADDRESS=Fire Department 9531 Pinnacle Rd. Sauquoit NY 13456 United States;X-APPLE-RADIUS=500;X-TITLE=9531 Pinnacle Rd.:geo:-75.259179,43.005236
END:VEVENT
BEGIN:VEVENT
DTSTART;TZID=UTC:20261125T163000
DTEND;TZID=UTC:20261125T173000
DTSTAMP:20260421T012745
CREATED:20240613T121504Z
LAST-MODIFIED:20251011T200435Z
UID:4334-1795624200-1795627800@iueclocal35.org
SUMMARY:Executive Board Meeting
DESCRIPTION:
URL:https://iueclocal35.org/event/executive-board-meeting-2-2/2026-11-25/
LOCATION:Labor Temple\, 890 Third Street\, Albany\, NY\, 12006\, United States
CATEGORIES:default
GEO:42.6788378;-73.7857575
X-APPLE-STRUCTURED-LOCATION;VALUE=URI;X-ADDRESS=Labor Temple 890 Third Street Albany NY 12006 United States;X-APPLE-RADIUS=500;X-TITLE=890 Third Street:geo:-73.7857575,42.6788378
END:VEVENT
BEGIN:VEVENT
DTSTART;TZID=UTC:20261209T163000
DTEND;TZID=UTC:20261209T173000
DTSTAMP:20260421T012745
CREATED:20240730T162723Z
LAST-MODIFIED:20251011T200750Z
UID:4363-1796833800-1796837400@iueclocal35.org
SUMMARY:Union Meeting
DESCRIPTION:
URL:https://iueclocal35.org/event/union-meeting-2/2026-12-09/
LOCATION:Labor Temple\, 890 Third Street\, Albany\, NY\, 12006\, United States
CATEGORIES:default
GEO:42.6788378;-73.7857575
X-APPLE-STRUCTURED-LOCATION;VALUE=URI;X-ADDRESS=Labor Temple 890 Third Street Albany NY 12006 United States;X-APPLE-RADIUS=500;X-TITLE=890 Third Street:geo:-73.7857575,42.6788378
END:VEVENT
BEGIN:VEVENT
DTSTART;TZID=UTC:20261210T180000
DTEND;TZID=UTC:20261210T200000
DTSTAMP:20260421T012745
CREATED:20251007T214920Z
LAST-MODIFIED:20251011T200347Z
UID:4288-1796925600-1796932800@iueclocal35.org
SUMMARY:Utica Meeting
DESCRIPTION:
URL:https://iueclocal35.org/event/utica-meeting/2026-12-10/
LOCATION:Fire Department\, 9531 Pinnacle Rd.\, Sauquoit\, NY\, 13456\, United States
CATEGORIES:default
GEO:43.005236;-75.259179
X-APPLE-STRUCTURED-LOCATION;VALUE=URI;X-ADDRESS=Fire Department 9531 Pinnacle Rd. Sauquoit NY 13456 United States;X-APPLE-RADIUS=500;X-TITLE=9531 Pinnacle Rd.:geo:-75.259179,43.005236
END:VEVENT
BEGIN:VEVENT
DTSTART;TZID=UTC:20261223T163000
DTEND;TZID=UTC:20261223T173000
DTSTAMP:20260421T012745
CREATED:20240613T121504Z
LAST-MODIFIED:20251011T200436Z
UID:4335-1798043400-1798047000@iueclocal35.org
SUMMARY:Executive Board Meeting
DESCRIPTION:
URL:https://iueclocal35.org/event/executive-board-meeting-2-2/2026-12-23/
LOCATION:Labor Temple\, 890 Third Street\, Albany\, NY\, 12006\, United States
CATEGORIES:default
GEO:42.6788378;-73.7857575
X-APPLE-STRUCTURED-LOCATION;VALUE=URI;X-ADDRESS=Labor Temple 890 Third Street Albany NY 12006 United States;X-APPLE-RADIUS=500;X-TITLE=890 Third Street:geo:-73.7857575,42.6788378
END:VEVENT
BEGIN:VEVENT
DTSTART;TZID=UTC:20270113T163000
DTEND;TZID=UTC:20270113T173000
DTSTAMP:20260421T012745
CREATED:20240730T162723Z
LAST-MODIFIED:20251011T200752Z
UID:4364-1799857800-1799861400@iueclocal35.org
SUMMARY:Union Meeting
DESCRIPTION:
URL:https://iueclocal35.org/event/union-meeting-2/2027-01-13/
LOCATION:Labor Temple\, 890 Third Street\, Albany\, NY\, 12006\, United States
CATEGORIES:default
GEO:42.6788378;-73.7857575
X-APPLE-STRUCTURED-LOCATION;VALUE=URI;X-ADDRESS=Labor Temple 890 Third Street Albany NY 12006 United States;X-APPLE-RADIUS=500;X-TITLE=890 Third Street:geo:-73.7857575,42.6788378
END:VEVENT
BEGIN:VEVENT
DTSTART;TZID=UTC:20270114T180000
DTEND;TZID=UTC:20270114T200000
DTSTAMP:20260421T012745
CREATED:20251007T214920Z
LAST-MODIFIED:20251011T200348Z
UID:4289-1799949600-1799956800@iueclocal35.org
SUMMARY:Utica Meeting
DESCRIPTION:
URL:https://iueclocal35.org/event/utica-meeting/2027-01-14/
LOCATION:Fire Department\, 9531 Pinnacle Rd.\, Sauquoit\, NY\, 13456\, United States
CATEGORIES:default
GEO:43.005236;-75.259179
X-APPLE-STRUCTURED-LOCATION;VALUE=URI;X-ADDRESS=Fire Department 9531 Pinnacle Rd. Sauquoit NY 13456 United States;X-APPLE-RADIUS=500;X-TITLE=9531 Pinnacle Rd.:geo:-75.259179,43.005236
END:VEVENT
BEGIN:VEVENT
DTSTART;TZID=UTC:20270127T163000
DTEND;TZID=UTC:20270127T173000
DTSTAMP:20260421T012745
CREATED:20240613T121504Z
LAST-MODIFIED:20251011T200437Z
UID:4336-1801067400-1801071000@iueclocal35.org
SUMMARY:Executive Board Meeting
DESCRIPTION:
URL:https://iueclocal35.org/event/executive-board-meeting-2-2/2027-01-27/
LOCATION:Labor Temple\, 890 Third Street\, Albany\, NY\, 12006\, United States
CATEGORIES:default
GEO:42.6788378;-73.7857575
X-APPLE-STRUCTURED-LOCATION;VALUE=URI;X-ADDRESS=Labor Temple 890 Third Street Albany NY 12006 United States;X-APPLE-RADIUS=500;X-TITLE=890 Third Street:geo:-73.7857575,42.6788378
END:VEVENT
BEGIN:VEVENT
DTSTART;TZID=UTC:20270210T163000
DTEND;TZID=UTC:20270210T173000
DTSTAMP:20260421T012745
CREATED:20240730T162723Z
LAST-MODIFIED:20251011T200753Z
UID:4365-1802277000-1802280600@iueclocal35.org
SUMMARY:Union Meeting
DESCRIPTION:
URL:https://iueclocal35.org/event/union-meeting-2/2027-02-10/
LOCATION:Labor Temple\, 890 Third Street\, Albany\, NY\, 12006\, United States
CATEGORIES:default
GEO:42.6788378;-73.7857575
X-APPLE-STRUCTURED-LOCATION;VALUE=URI;X-ADDRESS=Labor Temple 890 Third Street Albany NY 12006 United States;X-APPLE-RADIUS=500;X-TITLE=890 Third Street:geo:-73.7857575,42.6788378
END:VEVENT
BEGIN:VEVENT
DTSTART;TZID=UTC:20270211T180000
DTEND;TZID=UTC:20270211T200000
DTSTAMP:20260421T012745
CREATED:20251007T214920Z
LAST-MODIFIED:20251011T200349Z
UID:4290-1802368800-1802376000@iueclocal35.org
SUMMARY:Utica Meeting
DESCRIPTION:
URL:https://iueclocal35.org/event/utica-meeting/2027-02-11/
LOCATION:Fire Department\, 9531 Pinnacle Rd.\, Sauquoit\, NY\, 13456\, United States
CATEGORIES:default
GEO:43.005236;-75.259179
X-APPLE-STRUCTURED-LOCATION;VALUE=URI;X-ADDRESS=Fire Department 9531 Pinnacle Rd. Sauquoit NY 13456 United States;X-APPLE-RADIUS=500;X-TITLE=9531 Pinnacle Rd.:geo:-75.259179,43.005236
END:VEVENT
BEGIN:VEVENT
DTSTART;TZID=UTC:20270224T163000
DTEND;TZID=UTC:20270224T173000
DTSTAMP:20260421T012745
CREATED:20240613T121504Z
LAST-MODIFIED:20251011T200438Z
UID:4337-1803486600-1803490200@iueclocal35.org
SUMMARY:Executive Board Meeting
DESCRIPTION:
URL:https://iueclocal35.org/event/executive-board-meeting-2-2/2027-02-24/
LOCATION:Labor Temple\, 890 Third Street\, Albany\, NY\, 12006\, United States
CATEGORIES:default
GEO:42.6788378;-73.7857575
X-APPLE-STRUCTURED-LOCATION;VALUE=URI;X-ADDRESS=Labor Temple 890 Third Street Albany NY 12006 United States;X-APPLE-RADIUS=500;X-TITLE=890 Third Street:geo:-73.7857575,42.6788378
END:VEVENT
BEGIN:VEVENT
DTSTART;TZID=UTC:20270310T163000
DTEND;TZID=UTC:20270310T173000
DTSTAMP:20260421T012745
CREATED:20240730T162723Z
LAST-MODIFIED:20251011T200754Z
UID:4366-1804696200-1804699800@iueclocal35.org
SUMMARY:Union Meeting
DESCRIPTION:
URL:https://iueclocal35.org/event/union-meeting-2/2027-03-10/
LOCATION:Labor Temple\, 890 Third Street\, Albany\, NY\, 12006\, United States
CATEGORIES:default
GEO:42.6788378;-73.7857575
X-APPLE-STRUCTURED-LOCATION;VALUE=URI;X-ADDRESS=Labor Temple 890 Third Street Albany NY 12006 United States;X-APPLE-RADIUS=500;X-TITLE=890 Third Street:geo:-73.7857575,42.6788378
END:VEVENT
BEGIN:VEVENT
DTSTART;TZID=UTC:20270311T180000
DTEND;TZID=UTC:20270311T200000
DTSTAMP:20260421T012745
CREATED:20251007T214920Z
LAST-MODIFIED:20251011T200350Z
UID:4291-1804788000-1804795200@iueclocal35.org
SUMMARY:Utica Meeting
DESCRIPTION:
URL:https://iueclocal35.org/event/utica-meeting/2027-03-11/
LOCATION:Fire Department\, 9531 Pinnacle Rd.\, Sauquoit\, NY\, 13456\, United States
CATEGORIES:default
GEO:43.005236;-75.259179
X-APPLE-STRUCTURED-LOCATION;VALUE=URI;X-ADDRESS=Fire Department 9531 Pinnacle Rd. Sauquoit NY 13456 United States;X-APPLE-RADIUS=500;X-TITLE=9531 Pinnacle Rd.:geo:-75.259179,43.005236
END:VEVENT
END:VCALENDAR