BEGIN:VCALENDAR
VERSION:2.0
PRODID:-//Local 35 - ECPv6.15.18//NONSGML v1.0//EN
CALSCALE:GREGORIAN
METHOD:PUBLISH
X-WR-CALNAME:Local 35
X-ORIGINAL-URL:https://iueclocal35.org
X-WR-CALDESC:Events for Local 35
REFRESH-INTERVAL;VALUE=DURATION:PT1H
X-Robots-Tag:noindex
X-PUBLISHED-TTL:PT1H
BEGIN:VTIMEZONE
TZID:UTC
BEGIN:STANDARD
TZOFFSETFROM:+0000
TZOFFSETTO:+0000
TZNAME:UTC
DTSTART:20230101T000000
END:STANDARD
END:VTIMEZONE
BEGIN:VEVENT
DTSTART;TZID=UTC:20260312T180000
DTEND;TZID=UTC:20260312T200000
DTSTAMP:20260421T025404
CREATED:20251007T214920Z
LAST-MODIFIED:20251011T200335Z
UID:4277-1773338400-1773345600@iueclocal35.org
SUMMARY:Utica Meeting
DESCRIPTION:
URL:https://iueclocal35.org/event/utica-meeting/2026-03-12/
LOCATION:Fire Department\, 9531 Pinnacle Rd.\, Sauquoit\, NY\, 13456\, United States
CATEGORIES:default
GEO:43.005236;-75.259179
X-APPLE-STRUCTURED-LOCATION;VALUE=URI;X-ADDRESS=Fire Department 9531 Pinnacle Rd. Sauquoit NY 13456 United States;X-APPLE-RADIUS=500;X-TITLE=9531 Pinnacle Rd.:geo:-75.259179,43.005236
END:VEVENT
BEGIN:VEVENT
DTSTART;TZID=UTC:20260311T163000
DTEND;TZID=UTC:20260311T173000
DTSTAMP:20260421T025404
CREATED:20240730T162723Z
LAST-MODIFIED:20251011T200737Z
UID:4353-1773246600-1773250200@iueclocal35.org
SUMMARY:Union Meeting
DESCRIPTION:
URL:https://iueclocal35.org/event/union-meeting-2/2026-03-11/
LOCATION:Labor Temple\, 890 Third Street\, Albany\, NY\, 12006\, United States
CATEGORIES:default
GEO:42.6788378;-73.7857575
X-APPLE-STRUCTURED-LOCATION;VALUE=URI;X-ADDRESS=Labor Temple 890 Third Street Albany NY 12006 United States;X-APPLE-RADIUS=500;X-TITLE=890 Third Street:geo:-73.7857575,42.6788378
END:VEVENT
BEGIN:VEVENT
DTSTART;TZID=UTC:20260225T163000
DTEND;TZID=UTC:20260225T173000
DTSTAMP:20260421T025404
CREATED:20240613T121504Z
LAST-MODIFIED:20251011T200422Z
UID:4325-1772037000-1772040600@iueclocal35.org
SUMMARY:Executive Board Meeting
DESCRIPTION:
URL:https://iueclocal35.org/event/executive-board-meeting-2-2/2026-02-25/
LOCATION:Labor Temple\, 890 Third Street\, Albany\, NY\, 12006\, United States
CATEGORIES:default
GEO:42.6788378;-73.7857575
X-APPLE-STRUCTURED-LOCATION;VALUE=URI;X-ADDRESS=Labor Temple 890 Third Street Albany NY 12006 United States;X-APPLE-RADIUS=500;X-TITLE=890 Third Street:geo:-73.7857575,42.6788378
END:VEVENT
BEGIN:VEVENT
DTSTART;TZID=UTC:20260212T180000
DTEND;TZID=UTC:20260212T200000
DTSTAMP:20260421T025404
CREATED:20251007T214920Z
LAST-MODIFIED:20251011T200334Z
UID:4276-1770919200-1770926400@iueclocal35.org
SUMMARY:Utica Meeting
DESCRIPTION:
URL:https://iueclocal35.org/event/utica-meeting/2026-02-12/
LOCATION:Fire Department\, 9531 Pinnacle Rd.\, Sauquoit\, NY\, 13456\, United States
CATEGORIES:default
GEO:43.005236;-75.259179
X-APPLE-STRUCTURED-LOCATION;VALUE=URI;X-ADDRESS=Fire Department 9531 Pinnacle Rd. Sauquoit NY 13456 United States;X-APPLE-RADIUS=500;X-TITLE=9531 Pinnacle Rd.:geo:-75.259179,43.005236
END:VEVENT
BEGIN:VEVENT
DTSTART;TZID=UTC:20260211T163000
DTEND;TZID=UTC:20260211T173000
DTSTAMP:20260421T025404
CREATED:20240730T162723Z
LAST-MODIFIED:20251011T200736Z
UID:4352-1770827400-1770831000@iueclocal35.org
SUMMARY:Union Meeting
DESCRIPTION:
URL:https://iueclocal35.org/event/union-meeting-2/2026-02-11/
LOCATION:Labor Temple\, 890 Third Street\, Albany\, NY\, 12006\, United States
CATEGORIES:default
GEO:42.6788378;-73.7857575
X-APPLE-STRUCTURED-LOCATION;VALUE=URI;X-ADDRESS=Labor Temple 890 Third Street Albany NY 12006 United States;X-APPLE-RADIUS=500;X-TITLE=890 Third Street:geo:-73.7857575,42.6788378
END:VEVENT
BEGIN:VEVENT
DTSTART;TZID=UTC:20260128T163000
DTEND;TZID=UTC:20260128T173000
DTSTAMP:20260421T025404
CREATED:20240613T121504Z
LAST-MODIFIED:20251011T200421Z
UID:4324-1769617800-1769621400@iueclocal35.org
SUMMARY:Executive Board Meeting
DESCRIPTION:
URL:https://iueclocal35.org/event/executive-board-meeting-2-2/2026-01-28/
LOCATION:Labor Temple\, 890 Third Street\, Albany\, NY\, 12006\, United States
CATEGORIES:default
GEO:42.6788378;-73.7857575
X-APPLE-STRUCTURED-LOCATION;VALUE=URI;X-ADDRESS=Labor Temple 890 Third Street Albany NY 12006 United States;X-APPLE-RADIUS=500;X-TITLE=890 Third Street:geo:-73.7857575,42.6788378
END:VEVENT
BEGIN:VEVENT
DTSTART;TZID=UTC:20260114T163000
DTEND;TZID=UTC:20260114T173000
DTSTAMP:20260421T025404
CREATED:20240730T162723Z
LAST-MODIFIED:20251011T200734Z
UID:4351-1768408200-1768411800@iueclocal35.org
SUMMARY:Union Meeting
DESCRIPTION:
URL:https://iueclocal35.org/event/union-meeting-2/2026-01-14/
LOCATION:Labor Temple\, 890 Third Street\, Albany\, NY\, 12006\, United States
CATEGORIES:default
GEO:42.6788378;-73.7857575
X-APPLE-STRUCTURED-LOCATION;VALUE=URI;X-ADDRESS=Labor Temple 890 Third Street Albany NY 12006 United States;X-APPLE-RADIUS=500;X-TITLE=890 Third Street:geo:-73.7857575,42.6788378
END:VEVENT
BEGIN:VEVENT
DTSTART;TZID=UTC:20260108T180000
DTEND;TZID=UTC:20260108T200000
DTSTAMP:20260421T025404
CREATED:20251007T214920Z
LAST-MODIFIED:20251011T200334Z
UID:4275-1767895200-1767902400@iueclocal35.org
SUMMARY:Utica Meeting
DESCRIPTION:
URL:https://iueclocal35.org/event/utica-meeting/2026-01-08/
LOCATION:Fire Department\, 9531 Pinnacle Rd.\, Sauquoit\, NY\, 13456\, United States
CATEGORIES:default
GEO:43.005236;-75.259179
X-APPLE-STRUCTURED-LOCATION;VALUE=URI;X-ADDRESS=Fire Department 9531 Pinnacle Rd. Sauquoit NY 13456 United States;X-APPLE-RADIUS=500;X-TITLE=9531 Pinnacle Rd.:geo:-75.259179,43.005236
END:VEVENT
BEGIN:VEVENT
DTSTART;TZID=UTC:20251224T163000
DTEND;TZID=UTC:20251224T173000
DTSTAMP:20260421T025404
CREATED:20240613T121504Z
LAST-MODIFIED:20251011T200420Z
UID:4323-1766593800-1766597400@iueclocal35.org
SUMMARY:Executive Board Meeting
DESCRIPTION:
URL:https://iueclocal35.org/event/executive-board-meeting-2-2/2025-12-24/
LOCATION:Labor Temple\, 890 Third Street\, Albany\, NY\, 12006\, United States
CATEGORIES:default
GEO:42.6788378;-73.7857575
X-APPLE-STRUCTURED-LOCATION;VALUE=URI;X-ADDRESS=Labor Temple 890 Third Street Albany NY 12006 United States;X-APPLE-RADIUS=500;X-TITLE=890 Third Street:geo:-73.7857575,42.6788378
END:VEVENT
BEGIN:VEVENT
DTSTART;TZID=UTC:20251211T180000
DTEND;TZID=UTC:20251211T200000
DTSTAMP:20260421T025404
CREATED:20251007T214920Z
LAST-MODIFIED:20251011T200333Z
UID:4274-1765476000-1765483200@iueclocal35.org
SUMMARY:Utica Meeting
DESCRIPTION:
URL:https://iueclocal35.org/event/utica-meeting/2025-12-11/
LOCATION:Fire Department\, 9531 Pinnacle Rd.\, Sauquoit\, NY\, 13456\, United States
CATEGORIES:default
GEO:43.005236;-75.259179
X-APPLE-STRUCTURED-LOCATION;VALUE=URI;X-ADDRESS=Fire Department 9531 Pinnacle Rd. Sauquoit NY 13456 United States;X-APPLE-RADIUS=500;X-TITLE=9531 Pinnacle Rd.:geo:-75.259179,43.005236
END:VEVENT
BEGIN:VEVENT
DTSTART;TZID=UTC:20251210T163000
DTEND;TZID=UTC:20251210T173000
DTSTAMP:20260421T025404
CREATED:20240730T162723Z
LAST-MODIFIED:20251011T200733Z
UID:4350-1765384200-1765387800@iueclocal35.org
SUMMARY:Union Meeting
DESCRIPTION:
URL:https://iueclocal35.org/event/union-meeting-2/2025-12-10/
LOCATION:Labor Temple\, 890 Third Street\, Albany\, NY\, 12006\, United States
CATEGORIES:default
GEO:42.6788378;-73.7857575
X-APPLE-STRUCTURED-LOCATION;VALUE=URI;X-ADDRESS=Labor Temple 890 Third Street Albany NY 12006 United States;X-APPLE-RADIUS=500;X-TITLE=890 Third Street:geo:-73.7857575,42.6788378
END:VEVENT
BEGIN:VEVENT
DTSTART;TZID=UTC:20251126T163000
DTEND;TZID=UTC:20251126T173000
DTSTAMP:20260421T025404
CREATED:20240613T121504Z
LAST-MODIFIED:20251011T200419Z
UID:4322-1764174600-1764178200@iueclocal35.org
SUMMARY:Executive Board Meeting
DESCRIPTION:
URL:https://iueclocal35.org/event/executive-board-meeting-2-2/2025-11-26/
LOCATION:Labor Temple\, 890 Third Street\, Albany\, NY\, 12006\, United States
CATEGORIES:default
GEO:42.6788378;-73.7857575
X-APPLE-STRUCTURED-LOCATION;VALUE=URI;X-ADDRESS=Labor Temple 890 Third Street Albany NY 12006 United States;X-APPLE-RADIUS=500;X-TITLE=890 Third Street:geo:-73.7857575,42.6788378
END:VEVENT
BEGIN:VEVENT
DTSTART;TZID=UTC:20251113T180000
DTEND;TZID=UTC:20251113T200000
DTSTAMP:20260421T025404
CREATED:20251007T214920Z
LAST-MODIFIED:20251011T200332Z
UID:4273-1763056800-1763064000@iueclocal35.org
SUMMARY:Utica Meeting
DESCRIPTION:
URL:https://iueclocal35.org/event/utica-meeting/2025-11-13/
LOCATION:Fire Department\, 9531 Pinnacle Rd.\, Sauquoit\, NY\, 13456\, United States
CATEGORIES:default
GEO:43.005236;-75.259179
X-APPLE-STRUCTURED-LOCATION;VALUE=URI;X-ADDRESS=Fire Department 9531 Pinnacle Rd. Sauquoit NY 13456 United States;X-APPLE-RADIUS=500;X-TITLE=9531 Pinnacle Rd.:geo:-75.259179,43.005236
END:VEVENT
BEGIN:VEVENT
DTSTART;TZID=UTC:20251112T163000
DTEND;TZID=UTC:20251112T173000
DTSTAMP:20260421T025404
CREATED:20240730T162723Z
LAST-MODIFIED:20251011T200732Z
UID:4349-1762965000-1762968600@iueclocal35.org
SUMMARY:Union Meeting
DESCRIPTION:
URL:https://iueclocal35.org/event/union-meeting-2/2025-11-12/
LOCATION:Labor Temple\, 890 Third Street\, Albany\, NY\, 12006\, United States
CATEGORIES:default
GEO:42.6788378;-73.7857575
X-APPLE-STRUCTURED-LOCATION;VALUE=URI;X-ADDRESS=Labor Temple 890 Third Street Albany NY 12006 United States;X-APPLE-RADIUS=500;X-TITLE=890 Third Street:geo:-73.7857575,42.6788378
END:VEVENT
BEGIN:VEVENT
DTSTART;TZID=UTC:20251022T163000
DTEND;TZID=UTC:20251022T173000
DTSTAMP:20260421T025404
CREATED:20240613T121504Z
LAST-MODIFIED:20251011T200419Z
UID:3949-1761150600-1761154200@iueclocal35.org
SUMMARY:Executive Board Meeting
DESCRIPTION:
URL:https://iueclocal35.org/event/executive-board-meeting-2-2/2025-10-22/
LOCATION:Labor Temple\, 890 Third Street\, Albany\, NY\, 12006\, United States
CATEGORIES:default
GEO:42.6788378;-73.7857575
X-APPLE-STRUCTURED-LOCATION;VALUE=URI;X-ADDRESS=Labor Temple 890 Third Street Albany NY 12006 United States;X-APPLE-RADIUS=500;X-TITLE=890 Third Street:geo:-73.7857575,42.6788378
END:VEVENT
BEGIN:VEVENT
DTSTART;TZID=UTC:20251009T180000
DTEND;TZID=UTC:20251009T200000
DTSTAMP:20260421T025404
CREATED:20251007T214920Z
LAST-MODIFIED:20251011T200332Z
UID:4272-1760032800-1760040000@iueclocal35.org
SUMMARY:Utica Meeting
DESCRIPTION:
URL:https://iueclocal35.org/event/utica-meeting/2025-10-09/
LOCATION:Fire Department\, 9531 Pinnacle Rd.\, Sauquoit\, NY\, 13456\, United States
CATEGORIES:default
GEO:43.005236;-75.259179
X-APPLE-STRUCTURED-LOCATION;VALUE=URI;X-ADDRESS=Fire Department 9531 Pinnacle Rd. Sauquoit NY 13456 United States;X-APPLE-RADIUS=500;X-TITLE=9531 Pinnacle Rd.:geo:-75.259179,43.005236
END:VEVENT
BEGIN:VEVENT
DTSTART;TZID=UTC:20251008T163000
DTEND;TZID=UTC:20251008T173000
DTSTAMP:20260421T025404
CREATED:20240730T162723Z
LAST-MODIFIED:20251011T200732Z
UID:4052-1759941000-1759944600@iueclocal35.org
SUMMARY:Union Meeting
DESCRIPTION:
URL:https://iueclocal35.org/event/union-meeting-2/2025-10-08/
LOCATION:Labor Temple\, 890 Third Street\, Albany\, NY\, 12006\, United States
CATEGORIES:default
GEO:42.6788378;-73.7857575
X-APPLE-STRUCTURED-LOCATION;VALUE=URI;X-ADDRESS=Labor Temple 890 Third Street Albany NY 12006 United States;X-APPLE-RADIUS=500;X-TITLE=890 Third Street:geo:-73.7857575,42.6788378
END:VEVENT
BEGIN:VEVENT
DTSTART;TZID=UTC:20240711T180000
DTEND;TZID=UTC:20240711T200000
DTSTAMP:20260421T025404
CREATED:20240730T163125Z
LAST-MODIFIED:20240730T163126Z
UID:4054-1720720800-1720728000@iueclocal35.org
SUMMARY:Union Meeting
DESCRIPTION:
URL:https://iueclocal35.org/event/union-meeting-3/
CATEGORIES:default
END:VEVENT
BEGIN:VEVENT
DTSTART;TZID=UTC:20240613T080000
DTEND;TZID=UTC:20240613T170000
DTSTAMP:20260421T025404
CREATED:20240315T084350Z
LAST-MODIFIED:20240726T073319Z
UID:2468-1718265600-1718298000@iueclocal35.org
SUMMARY:Union Meeting
DESCRIPTION:
URL:https://iueclocal35.org/event/union-meeting/2024-06-13/
CATEGORIES:default
END:VEVENT
BEGIN:VEVENT
DTSTART;TZID=UTC:20240611T180000
DTEND;TZID=UTC:20240611T200000
DTSTAMP:20260421T025404
CREATED:20240613T115924Z
LAST-MODIFIED:20240722T132133Z
UID:3947-1718128800-1718136000@iueclocal35.org
SUMMARY:Executive Board Meeting
DESCRIPTION:
URL:https://iueclocal35.org/event/executive-board-meeting-2/
CATEGORIES:default
END:VEVENT
END:VCALENDAR