BEGIN:VCALENDAR
VERSION:2.0
PRODID:-//Local 35 - ECPv6.15.18//NONSGML v1.0//EN
CALSCALE:GREGORIAN
METHOD:PUBLISH
X-WR-CALNAME:Local 35
X-ORIGINAL-URL:https://iueclocal35.org
X-WR-CALDESC:Events for Local 35
REFRESH-INTERVAL;VALUE=DURATION:PT1H
X-Robots-Tag:noindex
X-PUBLISHED-TTL:PT1H
BEGIN:VTIMEZONE
TZID:UTC
BEGIN:STANDARD
TZOFFSETFROM:+0000
TZOFFSETTO:+0000
TZNAME:UTC
DTSTART:20230101T000000
END:STANDARD
END:VTIMEZONE
BEGIN:VEVENT
DTSTART;TZID=UTC:20240611T180000
DTEND;TZID=UTC:20240611T200000
DTSTAMP:20260424T055348
CREATED:20240613T115924Z
LAST-MODIFIED:20240722T132133Z
UID:3947-1718128800-1718136000@iueclocal35.org
SUMMARY:Executive Board Meeting
DESCRIPTION:
URL:https://iueclocal35.org/event/executive-board-meeting-2/
CATEGORIES:default
END:VEVENT
END:VCALENDAR