BEGIN:VCALENDAR
VERSION:2.0
PRODID:-//Local 35 - ECPv6.15.18//NONSGML v1.0//EN
CALSCALE:GREGORIAN
METHOD:PUBLISH
X-ORIGINAL-URL:https://iueclocal35.org
X-WR-CALDESC:Events for Local 35
REFRESH-INTERVAL;VALUE=DURATION:PT1H
X-Robots-Tag:noindex
X-PUBLISHED-TTL:PT1H
BEGIN:VTIMEZONE
TZID:UTC
BEGIN:STANDARD
TZOFFSETFROM:+0000
TZOFFSETTO:+0000
TZNAME:UTC
DTSTART:20250101T000000
END:STANDARD
END:VTIMEZONE
BEGIN:VEVENT
DTSTART;TZID=UTC:20260108T180000
DTEND;TZID=UTC:20260108T200000
DTSTAMP:20260422T235921
CREATED:20251007T214920Z
LAST-MODIFIED:20251011T200334Z
UID:4275-1767895200-1767902400@iueclocal35.org
SUMMARY:Utica Meeting
DESCRIPTION:
URL:https://iueclocal35.org/event/utica-meeting/2026-01-08/
LOCATION:Fire Department\, 9531 Pinnacle Rd.\, Sauquoit\, NY\, 13456\, United States
CATEGORIES:default
GEO:43.005236;-75.259179
X-APPLE-STRUCTURED-LOCATION;VALUE=URI;X-ADDRESS=Fire Department 9531 Pinnacle Rd. Sauquoit NY 13456 United States;X-APPLE-RADIUS=500;X-TITLE=9531 Pinnacle Rd.:geo:-75.259179,43.005236
END:VEVENT
BEGIN:VEVENT
DTSTART;TZID=UTC:20260114T163000
DTEND;TZID=UTC:20260114T173000
DTSTAMP:20260422T235921
CREATED:20240730T162723Z
LAST-MODIFIED:20251011T200734Z
UID:4351-1768408200-1768411800@iueclocal35.org
SUMMARY:Union Meeting
DESCRIPTION:
URL:https://iueclocal35.org/event/union-meeting-2/2026-01-14/
LOCATION:Labor Temple\, 890 Third Street\, Albany\, NY\, 12006\, United States
CATEGORIES:default
GEO:42.6788378;-73.7857575
X-APPLE-STRUCTURED-LOCATION;VALUE=URI;X-ADDRESS=Labor Temple 890 Third Street Albany NY 12006 United States;X-APPLE-RADIUS=500;X-TITLE=890 Third Street:geo:-73.7857575,42.6788378
END:VEVENT
BEGIN:VEVENT
DTSTART;TZID=UTC:20260128T163000
DTEND;TZID=UTC:20260128T173000
DTSTAMP:20260422T235921
CREATED:20240613T121504Z
LAST-MODIFIED:20251011T200421Z
UID:4324-1769617800-1769621400@iueclocal35.org
SUMMARY:Executive Board Meeting
DESCRIPTION:
URL:https://iueclocal35.org/event/executive-board-meeting-2-2/2026-01-28/
LOCATION:Labor Temple\, 890 Third Street\, Albany\, NY\, 12006\, United States
CATEGORIES:default
GEO:42.6788378;-73.7857575
X-APPLE-STRUCTURED-LOCATION;VALUE=URI;X-ADDRESS=Labor Temple 890 Third Street Albany NY 12006 United States;X-APPLE-RADIUS=500;X-TITLE=890 Third Street:geo:-73.7857575,42.6788378
END:VEVENT
END:VCALENDAR