BEGIN:VCALENDAR
VERSION:2.0
PRODID:-//Local 35 - ECPv6.15.18//NONSGML v1.0//EN
CALSCALE:GREGORIAN
METHOD:PUBLISH
X-ORIGINAL-URL:https://iueclocal35.org
X-WR-CALDESC:Events for Local 35
REFRESH-INTERVAL;VALUE=DURATION:PT1H
X-Robots-Tag:noindex
X-PUBLISHED-TTL:PT1H
BEGIN:VTIMEZONE
TZID:UTC
BEGIN:STANDARD
TZOFFSETFROM:+0000
TZOFFSETTO:+0000
TZNAME:UTC
DTSTART:20250101T000000
END:STANDARD
END:VTIMEZONE
BEGIN:VEVENT
DTSTART;TZID=UTC:20260408T163000
DTEND;TZID=UTC:20260408T173000
DTSTAMP:20260420T131321
CREATED:20240730T162723Z
LAST-MODIFIED:20251011T200739Z
UID:4354-1775665800-1775669400@iueclocal35.org
SUMMARY:Union Meeting
DESCRIPTION:
URL:https://iueclocal35.org/event/union-meeting-2/2026-04-08/
LOCATION:Labor Temple\, 890 Third Street\, Albany\, NY\, 12006\, United States
CATEGORIES:default
GEO:42.6788378;-73.7857575
X-APPLE-STRUCTURED-LOCATION;VALUE=URI;X-ADDRESS=Labor Temple 890 Third Street Albany NY 12006 United States;X-APPLE-RADIUS=500;X-TITLE=890 Third Street:geo:-73.7857575,42.6788378
END:VEVENT
END:VCALENDAR